BEGIN:VCALENDAR
VERSION:2.0
PRODID:-//ATAP Foundation - ECPv6.15.18//NONSGML v1.0//EN
CALSCALE:GREGORIAN
METHOD:PUBLISH
X-ORIGINAL-URL:https://atapfoundation.org
X-WR-CALDESC:Events for ATAP Foundation
REFRESH-INTERVAL;VALUE=DURATION:PT1H
X-Robots-Tag:noindex
X-PUBLISHED-TTL:PT1H
BEGIN:VTIMEZONE
TZID:America/New_York
BEGIN:DAYLIGHT
TZOFFSETFROM:-0500
TZOFFSETTO:-0400
TZNAME:EDT
DTSTART:20230312T070000
END:DAYLIGHT
BEGIN:STANDARD
TZOFFSETFROM:-0400
TZOFFSETTO:-0500
TZNAME:EST
DTSTART:20231105T060000
END:STANDARD
BEGIN:DAYLIGHT
TZOFFSETFROM:-0500
TZOFFSETTO:-0400
TZNAME:EDT
DTSTART:20240310T070000
END:DAYLIGHT
BEGIN:STANDARD
TZOFFSETFROM:-0400
TZOFFSETTO:-0500
TZNAME:EST
DTSTART:20241103T060000
END:STANDARD
BEGIN:DAYLIGHT
TZOFFSETFROM:-0500
TZOFFSETTO:-0400
TZNAME:EDT
DTSTART:20250309T070000
END:DAYLIGHT
BEGIN:STANDARD
TZOFFSETFROM:-0400
TZOFFSETTO:-0500
TZNAME:EST
DTSTART:20251102T060000
END:STANDARD
END:VTIMEZONE
BEGIN:VEVENT
DTSTART;TZID=America/New_York:20241226T123000
DTEND;TZID=America/New_York:20241226T123000
DTSTAMP:20260425T230702
CREATED:20241126T183421Z
LAST-MODIFIED:20241126T185604Z
UID:10001129-1735216200-1735216200@atapfoundation.org
SUMMARY:Mufasa: The Lion King
DESCRIPTION:Join ATAP to watch Mufasa: The Lion King with community members on December 26th at Regal Moorestown. Arrive by 12:30pm to check in\, purchase concessions\, and connect with the community.\n\nDecember 26th\nRegal Moorestown Movie Theater\n400 NJ-38\, Moorestown\, NJ 08057
URL:https://atapfoundation.org/event/mufasa-the-lion-king/
LOCATION:Regal Moorestown\, 400 New Jersey 38\, Moorestown\, NJ\, 08057\, United States
CATEGORIES:Community Event
ATTACH;FMTTYPE=image/png:https://atapfoundation.org/wp-content/uploads/2024/11/Mufasa.png
END:VEVENT
END:VCALENDAR