BEGIN:VCALENDAR
VERSION:2.0
PRODID:-//ATAP Foundation - ECPv6.15.18//NONSGML v1.0//EN
CALSCALE:GREGORIAN
METHOD:PUBLISH
X-ORIGINAL-URL:https://atapfoundation.org
X-WR-CALDESC:Events for ATAP Foundation
REFRESH-INTERVAL;VALUE=DURATION:PT1H
X-Robots-Tag:noindex
X-PUBLISHED-TTL:PT1H
BEGIN:VTIMEZONE
TZID:America/New_York
BEGIN:DAYLIGHT
TZOFFSETFROM:-0500
TZOFFSETTO:-0400
TZNAME:EDT
DTSTART:20240310T070000
END:DAYLIGHT
BEGIN:STANDARD
TZOFFSETFROM:-0400
TZOFFSETTO:-0500
TZNAME:EST
DTSTART:20241103T060000
END:STANDARD
BEGIN:DAYLIGHT
TZOFFSETFROM:-0500
TZOFFSETTO:-0400
TZNAME:EDT
DTSTART:20250309T070000
END:DAYLIGHT
BEGIN:STANDARD
TZOFFSETFROM:-0400
TZOFFSETTO:-0500
TZNAME:EST
DTSTART:20251102T060000
END:STANDARD
BEGIN:DAYLIGHT
TZOFFSETFROM:-0500
TZOFFSETTO:-0400
TZNAME:EDT
DTSTART:20260308T070000
END:DAYLIGHT
BEGIN:STANDARD
TZOFFSETFROM:-0400
TZOFFSETTO:-0500
TZNAME:EST
DTSTART:20261101T060000
END:STANDARD
END:VTIMEZONE
BEGIN:VEVENT
DTSTART;TZID=America/New_York:20250517T110000
DTEND;TZID=America/New_York:20250517T140000
DTSTAMP:20260425T170328
CREATED:20241231T183952Z
LAST-MODIFIED:20250402T164247Z
UID:10001137-1747479600-1747490400@atapfoundation.org
SUMMARY:ATAP Scholarship Lunch
DESCRIPTION:
URL:https://atapfoundation.org/event/scholarshiplunch2025/
LOCATION:Boro Epicenter\, 621 Beverly-Rancocas Rd\, Suite 1A\, Willingboro\, NJ\, 08046\, United States
CATEGORIES:Community Event
ATTACH;FMTTYPE=image/png:https://atapfoundation.org/wp-content/uploads/2024/12/Scholarship-Lunch.png
END:VEVENT
END:VCALENDAR