BEGIN:VCALENDAR
VERSION:2.0
PRODID:-//ATAP Foundation - ECPv6.15.18//NONSGML v1.0//EN
CALSCALE:GREGORIAN
METHOD:PUBLISH
X-WR-CALNAME:ATAP Foundation
X-ORIGINAL-URL:https://atapfoundation.org
X-WR-CALDESC:Events for ATAP Foundation
REFRESH-INTERVAL;VALUE=DURATION:PT1H
X-Robots-Tag:noindex
X-PUBLISHED-TTL:PT1H
BEGIN:VTIMEZONE
TZID:America/New_York
BEGIN:DAYLIGHT
TZOFFSETFROM:-0500
TZOFFSETTO:-0400
TZNAME:EDT
DTSTART:20230312T070000
END:DAYLIGHT
BEGIN:STANDARD
TZOFFSETFROM:-0400
TZOFFSETTO:-0500
TZNAME:EST
DTSTART:20231105T060000
END:STANDARD
BEGIN:DAYLIGHT
TZOFFSETFROM:-0500
TZOFFSETTO:-0400
TZNAME:EDT
DTSTART:20240310T070000
END:DAYLIGHT
BEGIN:STANDARD
TZOFFSETFROM:-0400
TZOFFSETTO:-0500
TZNAME:EST
DTSTART:20241103T060000
END:STANDARD
BEGIN:DAYLIGHT
TZOFFSETFROM:-0500
TZOFFSETTO:-0400
TZNAME:EDT
DTSTART:20250309T070000
END:DAYLIGHT
BEGIN:STANDARD
TZOFFSETFROM:-0400
TZOFFSETTO:-0500
TZNAME:EST
DTSTART:20251102T060000
END:STANDARD
END:VTIMEZONE
BEGIN:VEVENT
DTSTART;TZID=America/New_York:20240202T180000
DTEND;TZID=America/New_York:20240202T210000
DTSTAMP:20260419T124646
CREATED:20230825T170518Z
LAST-MODIFIED:20231219T192528Z
UID:10000013-1706896800-1706907600@atapfoundation.org
SUMMARY:Black History Exploration
DESCRIPTION:Students in grades K-6. Join us for dinner and explore the contributions of African Americans. \nFirst 3 Fridays in February\, 6PM to 9PM
URL:https://atapfoundation.org/event/black-history-exploration/2024-02-02/
LOCATION:NJ
CATEGORIES:Club Cool Kids
ATTACH;FMTTYPE=image/jpeg:https://atapfoundation.org/wp-content/uploads/2023/09/BHM_Club_Cool_Kids_cropped-min.jpg
END:VEVENT
BEGIN:VEVENT
DTSTART;TZID=America/New_York:20240203T090000
DTEND;TZID=America/New_York:20240203T090000
DTSTAMP:20260419T124646
CREATED:20240110T154206Z
LAST-MODIFIED:20240110T160607Z
UID:10000113-1706950800-1706950800@atapfoundation.org
SUMMARY:Saturday Dance Classes - Beginner Tap (Session I)
DESCRIPTION:Meet us Saturdays at The Arts Project\n621 Beverly Rancocas Rd\nSuite 3F\nWillingboro\, NJ 08046\n\n\nBeginner Tap @9am\n\n8-week sessions \n\n\nSession I: January 20th – March 9th 2024\nSession II: March 16th – May 11th (No class April 5th)\n\n$90 for one class and $40 to add a second class. Introductory tuition prices are valid for Session I and Session II.\n\n\nContact us at info@atapfoundation.org
URL:https://atapfoundation.org/event/saturday-dance-classes-beginner-tap-session-i/2024-02-03/
LOCATION:The Arts Project\, 621 Beverly Rancocas Rd\, Suite 3F\, Willingboro\, NJ\, 08046\, United States
CATEGORIES:The Arts Project
ATTACH;FMTTYPE=image/png:https://atapfoundation.org/wp-content/uploads/2024/01/Tap-Ballet-Classes.png
END:VEVENT
BEGIN:VEVENT
DTSTART;TZID=America/New_York:20240203T100000
DTEND;TZID=America/New_York:20240203T100000
DTSTAMP:20260419T124646
CREATED:20240110T160250Z
LAST-MODIFIED:20240110T160539Z
UID:10000173-1706954400-1706954400@atapfoundation.org
SUMMARY:Saturday Dance Classes - Beginner Ballet (Session I)
DESCRIPTION:Meet us Saturdays at The Arts Project\n621 Beverly Rancocas Rd\nSuite 3F\nWillingboro\, NJ 08046\n\n\nBeginner Ballet @10am\n\n\n8-week sessions \n\n\nSession I: January 20th – March 9th 2024\nSession II: March 16th – May 11th (No class April 5th)\n\n$90 for one class and $40 to add a second class. Introductory tuition prices are valid for Session I and Session II.\n\n\nContact us at info@atapfoundation.org
URL:https://atapfoundation.org/event/saturday-dance-classes-beginner-ballet-session-i/2024-02-03/
LOCATION:The Arts Project\, 621 Beverly Rancocas Rd\, Suite 3F\, Willingboro\, NJ\, 08046\, United States
CATEGORIES:The Arts Project
ATTACH;FMTTYPE=image/png:https://atapfoundation.org/wp-content/uploads/2024/01/Tap-Ballet-Classes.png
END:VEVENT
BEGIN:VEVENT
DTSTART;TZID=America/New_York:20240209T180000
DTEND;TZID=America/New_York:20240209T210000
DTSTAMP:20260419T124646
CREATED:20230825T170518Z
LAST-MODIFIED:20231219T192528Z
UID:10000014-1707501600-1707512400@atapfoundation.org
SUMMARY:Black History Exploration
DESCRIPTION:Students in grades K-6. Join us for dinner and explore the contributions of African Americans. \nFirst 3 Fridays in February\, 6PM to 9PM
URL:https://atapfoundation.org/event/black-history-exploration/2024-02-09/
LOCATION:NJ
CATEGORIES:Club Cool Kids
ATTACH;FMTTYPE=image/jpeg:https://atapfoundation.org/wp-content/uploads/2023/09/BHM_Club_Cool_Kids_cropped-min.jpg
END:VEVENT
BEGIN:VEVENT
DTSTART;TZID=America/New_York:20240210T090000
DTEND;TZID=America/New_York:20240210T090000
DTSTAMP:20260419T124646
CREATED:20240110T154206Z
LAST-MODIFIED:20240110T160607Z
UID:10000114-1707555600-1707555600@atapfoundation.org
SUMMARY:Saturday Dance Classes - Beginner Tap (Session I)
DESCRIPTION:Meet us Saturdays at The Arts Project\n621 Beverly Rancocas Rd\nSuite 3F\nWillingboro\, NJ 08046\n\n\nBeginner Tap @9am\n\n8-week sessions \n\n\nSession I: January 20th – March 9th 2024\nSession II: March 16th – May 11th (No class April 5th)\n\n$90 for one class and $40 to add a second class. Introductory tuition prices are valid for Session I and Session II.\n\n\nContact us at info@atapfoundation.org
URL:https://atapfoundation.org/event/saturday-dance-classes-beginner-tap-session-i/2024-02-10/
LOCATION:The Arts Project\, 621 Beverly Rancocas Rd\, Suite 3F\, Willingboro\, NJ\, 08046\, United States
CATEGORIES:The Arts Project
ATTACH;FMTTYPE=image/png:https://atapfoundation.org/wp-content/uploads/2024/01/Tap-Ballet-Classes.png
END:VEVENT
BEGIN:VEVENT
DTSTART;TZID=America/New_York:20240210T100000
DTEND;TZID=America/New_York:20240210T100000
DTSTAMP:20260419T124646
CREATED:20240110T160250Z
LAST-MODIFIED:20240110T160539Z
UID:10000174-1707559200-1707559200@atapfoundation.org
SUMMARY:Saturday Dance Classes - Beginner Ballet (Session I)
DESCRIPTION:Meet us Saturdays at The Arts Project\n621 Beverly Rancocas Rd\nSuite 3F\nWillingboro\, NJ 08046\n\n\nBeginner Ballet @10am\n\n\n8-week sessions \n\n\nSession I: January 20th – March 9th 2024\nSession II: March 16th – May 11th (No class April 5th)\n\n$90 for one class and $40 to add a second class. Introductory tuition prices are valid for Session I and Session II.\n\n\nContact us at info@atapfoundation.org
URL:https://atapfoundation.org/event/saturday-dance-classes-beginner-ballet-session-i/2024-02-10/
LOCATION:The Arts Project\, 621 Beverly Rancocas Rd\, Suite 3F\, Willingboro\, NJ\, 08046\, United States
CATEGORIES:The Arts Project
ATTACH;FMTTYPE=image/png:https://atapfoundation.org/wp-content/uploads/2024/01/Tap-Ballet-Classes.png
END:VEVENT
BEGIN:VEVENT
DTSTART;TZID=America/New_York:20240216T180000
DTEND;TZID=America/New_York:20240216T210000
DTSTAMP:20260419T124646
CREATED:20230825T170518Z
LAST-MODIFIED:20231219T192528Z
UID:10000015-1708106400-1708117200@atapfoundation.org
SUMMARY:Black History Exploration
DESCRIPTION:Students in grades K-6. Join us for dinner and explore the contributions of African Americans. \nFirst 3 Fridays in February\, 6PM to 9PM
URL:https://atapfoundation.org/event/black-history-exploration/2024-02-16/
LOCATION:NJ
CATEGORIES:Club Cool Kids
ATTACH;FMTTYPE=image/jpeg:https://atapfoundation.org/wp-content/uploads/2023/09/BHM_Club_Cool_Kids_cropped-min.jpg
END:VEVENT
BEGIN:VEVENT
DTSTART;TZID=America/New_York:20240217T090000
DTEND;TZID=America/New_York:20240217T090000
DTSTAMP:20260419T124646
CREATED:20240110T154206Z
LAST-MODIFIED:20240110T160607Z
UID:10000115-1708160400-1708160400@atapfoundation.org
SUMMARY:Saturday Dance Classes - Beginner Tap (Session I)
DESCRIPTION:Meet us Saturdays at The Arts Project\n621 Beverly Rancocas Rd\nSuite 3F\nWillingboro\, NJ 08046\n\n\nBeginner Tap @9am\n\n8-week sessions \n\n\nSession I: January 20th – March 9th 2024\nSession II: March 16th – May 11th (No class April 5th)\n\n$90 for one class and $40 to add a second class. Introductory tuition prices are valid for Session I and Session II.\n\n\nContact us at info@atapfoundation.org
URL:https://atapfoundation.org/event/saturday-dance-classes-beginner-tap-session-i/2024-02-17/
LOCATION:The Arts Project\, 621 Beverly Rancocas Rd\, Suite 3F\, Willingboro\, NJ\, 08046\, United States
CATEGORIES:The Arts Project
ATTACH;FMTTYPE=image/png:https://atapfoundation.org/wp-content/uploads/2024/01/Tap-Ballet-Classes.png
END:VEVENT
BEGIN:VEVENT
DTSTART;TZID=America/New_York:20240217T100000
DTEND;TZID=America/New_York:20240217T100000
DTSTAMP:20260419T124646
CREATED:20240110T160250Z
LAST-MODIFIED:20240110T160539Z
UID:10000175-1708164000-1708164000@atapfoundation.org
SUMMARY:Saturday Dance Classes - Beginner Ballet (Session I)
DESCRIPTION:Meet us Saturdays at The Arts Project\n621 Beverly Rancocas Rd\nSuite 3F\nWillingboro\, NJ 08046\n\n\nBeginner Ballet @10am\n\n\n8-week sessions \n\n\nSession I: January 20th – March 9th 2024\nSession II: March 16th – May 11th (No class April 5th)\n\n$90 for one class and $40 to add a second class. Introductory tuition prices are valid for Session I and Session II.\n\n\nContact us at info@atapfoundation.org
URL:https://atapfoundation.org/event/saturday-dance-classes-beginner-ballet-session-i/2024-02-17/
LOCATION:The Arts Project\, 621 Beverly Rancocas Rd\, Suite 3F\, Willingboro\, NJ\, 08046\, United States
CATEGORIES:The Arts Project
ATTACH;FMTTYPE=image/png:https://atapfoundation.org/wp-content/uploads/2024/01/Tap-Ballet-Classes.png
END:VEVENT
BEGIN:VEVENT
DTSTART;TZID=America/New_York:20240218T160000
DTEND;TZID=America/New_York:20240218T200000
DTSTAMP:20260419T124646
CREATED:20240109T212343Z
LAST-MODIFIED:20240109T212507Z
UID:10000049-1708272000-1708286400@atapfoundation.org
SUMMARY:Just the 2 of Us: Celebrating Love
DESCRIPTION:Sunday\, February 18th @ 4PM – 8PM \n$150 per couple. \nJust the 2 of Us is presented by a collective of local businesses and organizations: ATAP Foundation\, The Boro Church\, Smokin Rev & Lady Q’s\, and The Boro Epicenter to offer a wholesome experience for couples. Expect a wonderful time with food\, fellowship\, and fun! Dress to impress yours\, whether it’s your favorite dress or suit\, matching t-shirts and sneakers\, or your favorite His & Hers apparel. \nIt’s important to celebrate love\, so come full of love and in expectation of a good time.
URL:https://atapfoundation.org/event/just-the-2-of-us-celebrating-love/
LOCATION:Boro Epicenter\, 621 Beverly-Rancocas Rd\, Suite 1A\, Willingboro\, NJ\, 08046\, United States
CATEGORIES:Community Event
ATTACH;FMTTYPE=image/png:https://atapfoundation.org/wp-content/uploads/2024/01/Just-the-2-Of-Us_2024.png
END:VEVENT
BEGIN:VEVENT
DTSTART;TZID=America/New_York:20240223T180000
DTEND;TZID=America/New_York:20240223T210000
DTSTAMP:20260419T124646
CREATED:20231219T191944Z
LAST-MODIFIED:20231219T192021Z
UID:10000047-1708711200-1708722000@atapfoundation.org
SUMMARY:Black History Month Celebrity Night
DESCRIPTION:For Students in grades K-6\, come dressed as someone you learned about from Black History\, that you admire! \nCelebration is from 6pm-9pm\, February 23\, 2024 with dinner\, dancing\, and fun! \nVenue: \nBoro Epicenter\n621 Beverly-Rancocas Rd\nSuite 1A\nWillingboro\, NJ 08046
URL:https://atapfoundation.org/event/black-history-month-celebrity-night/
LOCATION:Boro Epicenter\, 621 Beverly-Rancocas Rd\, Suite 1A\, Willingboro\, NJ\, 08046\, United States
CATEGORIES:Club Cool Kids
END:VEVENT
BEGIN:VEVENT
DTSTART;TZID=America/New_York:20240224T090000
DTEND;TZID=America/New_York:20240224T090000
DTSTAMP:20260419T124646
CREATED:20240110T154206Z
LAST-MODIFIED:20240110T160607Z
UID:10000116-1708765200-1708765200@atapfoundation.org
SUMMARY:Saturday Dance Classes - Beginner Tap (Session I)
DESCRIPTION:Meet us Saturdays at The Arts Project\n621 Beverly Rancocas Rd\nSuite 3F\nWillingboro\, NJ 08046\n\n\nBeginner Tap @9am\n\n8-week sessions \n\n\nSession I: January 20th – March 9th 2024\nSession II: March 16th – May 11th (No class April 5th)\n\n$90 for one class and $40 to add a second class. Introductory tuition prices are valid for Session I and Session II.\n\n\nContact us at info@atapfoundation.org
URL:https://atapfoundation.org/event/saturday-dance-classes-beginner-tap-session-i/2024-02-24/
LOCATION:The Arts Project\, 621 Beverly Rancocas Rd\, Suite 3F\, Willingboro\, NJ\, 08046\, United States
CATEGORIES:The Arts Project
ATTACH;FMTTYPE=image/png:https://atapfoundation.org/wp-content/uploads/2024/01/Tap-Ballet-Classes.png
END:VEVENT
BEGIN:VEVENT
DTSTART;TZID=America/New_York:20240224T100000
DTEND;TZID=America/New_York:20240224T100000
DTSTAMP:20260419T124646
CREATED:20240110T160250Z
LAST-MODIFIED:20240110T160539Z
UID:10000176-1708768800-1708768800@atapfoundation.org
SUMMARY:Saturday Dance Classes - Beginner Ballet (Session I)
DESCRIPTION:Meet us Saturdays at The Arts Project\n621 Beverly Rancocas Rd\nSuite 3F\nWillingboro\, NJ 08046\n\n\nBeginner Ballet @10am\n\n\n8-week sessions \n\n\nSession I: January 20th – March 9th 2024\nSession II: March 16th – May 11th (No class April 5th)\n\n$90 for one class and $40 to add a second class. Introductory tuition prices are valid for Session I and Session II.\n\n\nContact us at info@atapfoundation.org
URL:https://atapfoundation.org/event/saturday-dance-classes-beginner-ballet-session-i/2024-02-24/
LOCATION:The Arts Project\, 621 Beverly Rancocas Rd\, Suite 3F\, Willingboro\, NJ\, 08046\, United States
CATEGORIES:The Arts Project
ATTACH;FMTTYPE=image/png:https://atapfoundation.org/wp-content/uploads/2024/01/Tap-Ballet-Classes.png
END:VEVENT
END:VCALENDAR