BEGIN:VCALENDAR
VERSION:2.0
PRODID:-//ATAP Foundation - ECPv6.15.18//NONSGML v1.0//EN
CALSCALE:GREGORIAN
METHOD:PUBLISH
X-WR-CALNAME:ATAP Foundation
X-ORIGINAL-URL:https://atapfoundation.org
X-WR-CALDESC:Events for ATAP Foundation
REFRESH-INTERVAL;VALUE=DURATION:PT1H
X-Robots-Tag:noindex
X-PUBLISHED-TTL:PT1H
BEGIN:VTIMEZONE
TZID:America/New_York
BEGIN:DAYLIGHT
TZOFFSETFROM:-0500
TZOFFSETTO:-0400
TZNAME:EDT
DTSTART:20230312T070000
END:DAYLIGHT
BEGIN:STANDARD
TZOFFSETFROM:-0400
TZOFFSETTO:-0500
TZNAME:EST
DTSTART:20231105T060000
END:STANDARD
BEGIN:DAYLIGHT
TZOFFSETFROM:-0500
TZOFFSETTO:-0400
TZNAME:EDT
DTSTART:20240310T070000
END:DAYLIGHT
BEGIN:STANDARD
TZOFFSETFROM:-0400
TZOFFSETTO:-0500
TZNAME:EST
DTSTART:20241103T060000
END:STANDARD
BEGIN:DAYLIGHT
TZOFFSETFROM:-0500
TZOFFSETTO:-0400
TZNAME:EDT
DTSTART:20250309T070000
END:DAYLIGHT
BEGIN:STANDARD
TZOFFSETFROM:-0400
TZOFFSETTO:-0500
TZNAME:EST
DTSTART:20251102T060000
END:STANDARD
END:VTIMEZONE
BEGIN:VEVENT
DTSTART;TZID=America/New_York:20240401T070000
DTEND;TZID=America/New_York:20240405T180000
DTSTAMP:20260419T091623
CREATED:20230825T193724Z
LAST-MODIFIED:20240109T180135Z
UID:10000019-1711954800-1712340000@atapfoundation.org
SUMMARY:Spring Break Full Day Program
DESCRIPTION:Students in grades K-6. Join us for fun-learning during Spring Break!
URL:https://atapfoundation.org/event/spring-break-full-day-program/
LOCATION:ATAP Foundation\, 611 Beverly Rancocas Rd\, Willingboro\, NJ\, 08047\, United States
CATEGORIES:Full Day Program
ATTACH;FMTTYPE=image/jpeg:https://atapfoundation.org/wp-content/uploads/2023/10/SE_kids-in-classroom-scaled.jpg
END:VEVENT
BEGIN:VEVENT
DTSTART;TZID=America/New_York:20240405T180000
DTEND;TZID=America/New_York:20240405T210000
DTSTAMP:20260419T091623
CREATED:20231222T200916Z
LAST-MODIFIED:20231222T200916Z
UID:10000021-1712340000-1712350800@atapfoundation.org
SUMMARY:Vet Science
DESCRIPTION:Students in grades K-6. Join us for dinner and to explore veterinary science. \nFirst Session: 4/5/2024 – 6PM to 9PM \nSecond Session: 4/19/2024 – 6PM to 9PM
URL:https://atapfoundation.org/event/vet-science-3/
LOCATION:ATAP Foundation\, 611 Beverly Rancocas Rd\, Willingboro\, NJ\, 08047\, United States
CATEGORIES:Club Cool Kids
ATTACH;FMTTYPE=image/jpeg:https://atapfoundation.org/wp-content/uploads/2023/09/Vet-Science_Club-Cool-Kids_cropped-min.jpg
END:VEVENT
BEGIN:VEVENT
DTSTART;TZID=America/New_York:20240413T090000
DTEND;TZID=America/New_York:20240413T090000
DTSTAMP:20260419T091623
CREATED:20240110T160833Z
LAST-MODIFIED:20240301T184506Z
UID:10000242-1712998800-1712998800@atapfoundation.org
SUMMARY:Saturday Dance Classes - Beginner Ballet (Session II)
DESCRIPTION:Meet us Saturdays at The Arts Project\n621 Beverly Rancocas Rd\nSuite 3F\nWillingboro\, NJ 08046\n\n\nBeginner Tap @9am\n\n8-week sessions \n\n\nSession I: January 20th – March 9th 2024\nSession II: March 16th – May 11th (No class March 30th)\n\n$90 for one class and $40 to add a second class. Introductory tuition prices are valid for Session I and Session II.\n\n\nContact us at info@atapfoundation.org
URL:https://atapfoundation.org/event/saturday-dance-classes-beginner-ballet-session-ii/2024-04-13/
LOCATION:NJ
CATEGORIES:The Arts Project
ATTACH;FMTTYPE=image/png:https://atapfoundation.org/wp-content/uploads/2024/01/Tap-Ballet-Classes.png
END:VEVENT
BEGIN:VEVENT
DTSTART;TZID=America/New_York:20240413T090000
DTEND;TZID=America/New_York:20240413T090000
DTSTAMP:20260419T091623
CREATED:20240110T160959Z
LAST-MODIFIED:20240301T184420Z
UID:10000234-1712998800-1712998800@atapfoundation.org
SUMMARY:Saturday Dance Classes - Beginner Tap (Session II)
DESCRIPTION:Meet us Saturdays at The Arts Project\n621 Beverly Rancocas Rd\nSuite 3F\nWillingboro\, NJ 08046\n\n\nBeginner Tap @9am\n\n8-week sessions \n\n\nSession I: January 20th – March 9th 2024\nSession II: March 16th – May 11th (No class March 30th)\n\n$90 for one class and $40 to add a second class. Introductory tuition prices are valid for Session I and Session II.\n\n\nContact us at info@atapfoundation.org
URL:https://atapfoundation.org/event/saturday-dance-classes-beginner-tap-session-ii/2024-04-13/
LOCATION:The Arts Project\, 621 Beverly Rancocas Rd\, Suite 3F\, Willingboro\, NJ\, 08046\, United States
CATEGORIES:The Arts Project
ATTACH;FMTTYPE=image/png:https://atapfoundation.org/wp-content/uploads/2024/01/Tap-Ballet-Classes.png
END:VEVENT
BEGIN:VEVENT
DTSTART;TZID=America/New_York:20240413T173000
DTEND;TZID=America/New_York:20240413T173000
DTSTAMP:20260419T091623
CREATED:20240110T144112Z
LAST-MODIFIED:20240325T113848Z
UID:10000051-1713029400-1713029400@atapfoundation.org
SUMMARY:Chloé Arnold's Syncopated Ladies: LIVE! at the Kimmel Center
DESCRIPTION:Join us to see Chloé Arnold’s Syncopated Ladies: LIVE! at the Kimmel Center on Saturday\, April 13th\, 2024! \nWe will depart ATAP at 5:30pm. Tickets in orchestra seating and transportation in the ATAP van are included. \n$60 each. 
URL:https://atapfoundation.org/event/chloe-arnolds-syncopated-ladies-live-at-the-kimmel-center/
LOCATION:ATAP Foundation\, 611 Beverly Rancocas Rd\, Willingboro\, NJ\, 08047\, United States
CATEGORIES:The Arts Project
ATTACH;FMTTYPE=image/png:https://atapfoundation.org/wp-content/uploads/2024/01/Z7Zd2r3T8l.png
END:VEVENT
BEGIN:VEVENT
DTSTART;TZID=America/New_York:20240419T180000
DTEND;TZID=America/New_York:20240419T210000
DTSTAMP:20260419T091623
CREATED:20231222T194837Z
LAST-MODIFIED:20231222T200548Z
UID:10000048-1713549600-1713560400@atapfoundation.org
SUMMARY:Vet Science
DESCRIPTION:Students in grades K-6. Join us for dinner and to explore veterinary science. \nFirst Session: 4/5/2024 – 6PM to 9PM \nSecond Session: 4/19/2024 – 6PM to 9PM
URL:https://atapfoundation.org/event/vet-science-2/
LOCATION:ATAP Foundation\, 611 Beverly Rancocas Rd\, Willingboro\, NJ\, 08047\, United States
CATEGORIES:Club Cool Kids
ATTACH;FMTTYPE=image/jpeg:https://atapfoundation.org/wp-content/uploads/2023/09/Vet-Science_Club-Cool-Kids_cropped-min.jpg
END:VEVENT
BEGIN:VEVENT
DTSTART;TZID=America/New_York:20240420T090000
DTEND;TZID=America/New_York:20240420T090000
DTSTAMP:20260419T091623
CREATED:20240110T160833Z
LAST-MODIFIED:20240301T184506Z
UID:10000243-1713603600-1713603600@atapfoundation.org
SUMMARY:Saturday Dance Classes - Beginner Ballet (Session II)
DESCRIPTION:Meet us Saturdays at The Arts Project\n621 Beverly Rancocas Rd\nSuite 3F\nWillingboro\, NJ 08046\n\n\nBeginner Tap @9am\n\n8-week sessions \n\n\nSession I: January 20th – March 9th 2024\nSession II: March 16th – May 11th (No class March 30th)\n\n$90 for one class and $40 to add a second class. Introductory tuition prices are valid for Session I and Session II.\n\n\nContact us at info@atapfoundation.org
URL:https://atapfoundation.org/event/saturday-dance-classes-beginner-ballet-session-ii/2024-04-20/
LOCATION:NJ
CATEGORIES:The Arts Project
ATTACH;FMTTYPE=image/png:https://atapfoundation.org/wp-content/uploads/2024/01/Tap-Ballet-Classes.png
END:VEVENT
BEGIN:VEVENT
DTSTART;TZID=America/New_York:20240420T090000
DTEND;TZID=America/New_York:20240420T090000
DTSTAMP:20260419T091623
CREATED:20240110T160959Z
LAST-MODIFIED:20240301T184420Z
UID:10000235-1713603600-1713603600@atapfoundation.org
SUMMARY:Saturday Dance Classes - Beginner Tap (Session II)
DESCRIPTION:Meet us Saturdays at The Arts Project\n621 Beverly Rancocas Rd\nSuite 3F\nWillingboro\, NJ 08046\n\n\nBeginner Tap @9am\n\n8-week sessions \n\n\nSession I: January 20th – March 9th 2024\nSession II: March 16th – May 11th (No class March 30th)\n\n$90 for one class and $40 to add a second class. Introductory tuition prices are valid for Session I and Session II.\n\n\nContact us at info@atapfoundation.org
URL:https://atapfoundation.org/event/saturday-dance-classes-beginner-tap-session-ii/2024-04-20/
LOCATION:The Arts Project\, 621 Beverly Rancocas Rd\, Suite 3F\, Willingboro\, NJ\, 08046\, United States
CATEGORIES:The Arts Project
ATTACH;FMTTYPE=image/png:https://atapfoundation.org/wp-content/uploads/2024/01/Tap-Ballet-Classes.png
END:VEVENT
BEGIN:VEVENT
DTSTART;TZID=America/New_York:20240427T090000
DTEND;TZID=America/New_York:20240427T090000
DTSTAMP:20260419T091623
CREATED:20240110T160833Z
LAST-MODIFIED:20240301T184506Z
UID:10000244-1714208400-1714208400@atapfoundation.org
SUMMARY:Saturday Dance Classes - Beginner Ballet (Session II)
DESCRIPTION:Meet us Saturdays at The Arts Project\n621 Beverly Rancocas Rd\nSuite 3F\nWillingboro\, NJ 08046\n\n\nBeginner Tap @9am\n\n8-week sessions \n\n\nSession I: January 20th – March 9th 2024\nSession II: March 16th – May 11th (No class March 30th)\n\n$90 for one class and $40 to add a second class. Introductory tuition prices are valid for Session I and Session II.\n\n\nContact us at info@atapfoundation.org
URL:https://atapfoundation.org/event/saturday-dance-classes-beginner-ballet-session-ii/2024-04-27/
LOCATION:NJ
CATEGORIES:The Arts Project
ATTACH;FMTTYPE=image/png:https://atapfoundation.org/wp-content/uploads/2024/01/Tap-Ballet-Classes.png
END:VEVENT
BEGIN:VEVENT
DTSTART;TZID=America/New_York:20240427T090000
DTEND;TZID=America/New_York:20240427T090000
DTSTAMP:20260419T091623
CREATED:20240110T160959Z
LAST-MODIFIED:20240301T184420Z
UID:10000236-1714208400-1714208400@atapfoundation.org
SUMMARY:Saturday Dance Classes - Beginner Tap (Session II)
DESCRIPTION:Meet us Saturdays at The Arts Project\n621 Beverly Rancocas Rd\nSuite 3F\nWillingboro\, NJ 08046\n\n\nBeginner Tap @9am\n\n8-week sessions \n\n\nSession I: January 20th – March 9th 2024\nSession II: March 16th – May 11th (No class March 30th)\n\n$90 for one class and $40 to add a second class. Introductory tuition prices are valid for Session I and Session II.\n\n\nContact us at info@atapfoundation.org
URL:https://atapfoundation.org/event/saturday-dance-classes-beginner-tap-session-ii/2024-04-27/
LOCATION:The Arts Project\, 621 Beverly Rancocas Rd\, Suite 3F\, Willingboro\, NJ\, 08046\, United States
CATEGORIES:The Arts Project
ATTACH;FMTTYPE=image/png:https://atapfoundation.org/wp-content/uploads/2024/01/Tap-Ballet-Classes.png
END:VEVENT
END:VCALENDAR